BEGIN:VCALENDAR
PRODID:-//Microsoft Corporation//Outlook 12.0 MIMEDIR//EN
VERSION:2.0
CALSCALE:GREGORIAN
BEGIN:VEVENT
UID: 6c89f74a-0d4d-42ae-abb5-3f9b4c396a92
SUMMARY:KiVa taimeprojekt
DTSTAMP:20260420
DTSTART:20260420
DTEND:20260421
DURATION:P1D
LOCATION:Mustvee Kool
DESCRIPTION: <p>Täna alustasime KiVa taimeprojektiga ja esimesed seemned said mulda.</p><p><strong>Link: </strong>https://www.mustvee.edu.ee/et/sundmuste-kalender/kiva-taimeprojekt</p><p><strong>Hind: </strong></p>
STATUS:CONFIRMED
SEQUENCE:3
X-ALT-DESC;FMTTYPE=text/html:<p>Täna alustasime KiVa taimeprojektiga ja esimesed seemned said mulda.</p><p><strong>Link: </strong>https://www.mustvee.edu.ee/et/sundmuste-kalender/kiva-taimeprojekt</p><p><strong>Hind: </strong></p>
X-MICROSOFT-CDO-BUSYSTATUS:OOF
X-MICROSOFT-CDO-IMPORTANCE:1
X-MICROSOFT-DISALLOW-COUNTER:FALSE
X-MS-OLK-ALLOWEXTERNCHECK:TRUE
X-MS-OLK-CONFTYPE:0
X-MICROSOFT-CDO-ALLDAYEVENT:1
X-MICROSOFT-MSNCALENDAR-ALLDAYEVENT:1
END:VEVENT
END:VCALENDAR