BEGIN:VCALENDAR
PRODID:-//Microsoft Corporation//Outlook 12.0 MIMEDIR//EN
VERSION:2.0
CALSCALE:GREGORIAN
BEGIN:VEVENT
UID: 62a19eba-9357-47a5-a3a2-ee0fa33be85a
SUMMARY:KiVa õpilasküsitlus
DTSTAMP:20260420
DTSTART:20260420
DTEND:20260523
DURATION:P33D
LOCATION:
DESCRIPTION: <p>20. aprill - 22. mai toimub KiVa õpilasküsitlus. Vanemate teavitus on leitav kooli kodulehelt ja eKoolist.</p><p><strong>Link: </strong>https://www.mustvee.edu.ee/et/sundmuste-kalender/kiva-opilaskusitlus</p><p><strong>Hind: </strong></p>
STATUS:CONFIRMED
SEQUENCE:3
X-ALT-DESC;FMTTYPE=text/html:<p>20. aprill - 22. mai toimub KiVa õpilasküsitlus. Vanemate teavitus on leitav kooli kodulehelt ja eKoolist.</p><p><strong>Link: </strong>https://www.mustvee.edu.ee/et/sundmuste-kalender/kiva-opilaskusitlus</p><p><strong>Hind: </strong></p>
X-MICROSOFT-CDO-BUSYSTATUS:OOF
X-MICROSOFT-CDO-IMPORTANCE:1
X-MICROSOFT-DISALLOW-COUNTER:FALSE
X-MS-OLK-ALLOWEXTERNCHECK:TRUE
X-MS-OLK-CONFTYPE:0
X-MICROSOFT-CDO-ALLDAYEVENT:1
X-MICROSOFT-MSNCALENDAR-ALLDAYEVENT:1
END:VEVENT
END:VCALENDAR